BEGIN:VCALENDAR
VERSION:2.0
PRODID:-//Indian Lake Owners&#039; Association - ECPv6.15.20//NONSGML v1.0//EN
CALSCALE:GREGORIAN
METHOD:PUBLISH
X-WR-CALNAME:Indian Lake Owners&#039; Association
X-ORIGINAL-URL:https://indianlakeowners.net
X-WR-CALDESC:Events for Indian Lake Owners&#039; Association
REFRESH-INTERVAL;VALUE=DURATION:PT1H
X-Robots-Tag:noindex
X-PUBLISHED-TTL:PT1H
BEGIN:VTIMEZONE
TZID:America/Chicago
BEGIN:DAYLIGHT
TZOFFSETFROM:-0600
TZOFFSETTO:-0500
TZNAME:CDT
DTSTART:20230312T080000
END:DAYLIGHT
BEGIN:STANDARD
TZOFFSETFROM:-0500
TZOFFSETTO:-0600
TZNAME:CST
DTSTART:20231105T070000
END:STANDARD
BEGIN:DAYLIGHT
TZOFFSETFROM:-0600
TZOFFSETTO:-0500
TZNAME:CDT
DTSTART:20240310T080000
END:DAYLIGHT
BEGIN:STANDARD
TZOFFSETFROM:-0500
TZOFFSETTO:-0600
TZNAME:CST
DTSTART:20241103T070000
END:STANDARD
BEGIN:DAYLIGHT
TZOFFSETFROM:-0600
TZOFFSETTO:-0500
TZNAME:CDT
DTSTART:20250309T080000
END:DAYLIGHT
BEGIN:STANDARD
TZOFFSETFROM:-0500
TZOFFSETTO:-0600
TZNAME:CST
DTSTART:20251102T070000
END:STANDARD
END:VTIMEZONE
BEGIN:VEVENT
DTSTART;TZID=America/Chicago:20240323T070000
DTEND;TZID=America/Chicago:20240323T170000
DTSTAMP:20260425T060907
CREATED:20240221T165908Z
LAST-MODIFIED:20240314T190712Z
UID:4026-1711177200-1711213200@indianlakeowners.net
SUMMARY:ILOA Annual Spring Cleanup (across from Pavilion)
DESCRIPTION:
URL:https://indianlakeowners.net/event/iloa-annual-spring-cleanup/
END:VEVENT
BEGIN:VEVENT
DTSTART;TZID=America/Chicago:20240316T090000
DTEND;TZID=America/Chicago:20240316T120000
DTSTAMP:20260425T060907
CREATED:20240111T115239Z
LAST-MODIFIED:20240221T170300Z
UID:3921-1710579600-1710590400@indianlakeowners.net
SUMMARY:Bastrop Co Household Hazardous Waste Clean Up (109 Taylor Street  Smithville\, TX)
DESCRIPTION:
URL:https://indianlakeowners.net/event/bastrop-lee-county-household-hazardous-waste-clean-up-day/
LOCATION:Bastrop County Household Hazardous Waste & Reuse Facility\, 109 Taylor St\, Smithville\, Texas\, 78597
END:VEVENT
BEGIN:VEVENT
DTSTART;TZID=America/Chicago:20240309T100000
DTEND;TZID=America/Chicago:20240309T100000
DTSTAMP:20260425T060907
CREATED:20240130T180318Z
LAST-MODIFIED:20240229T200931Z
UID:4010-1709978400-1709978400@indianlakeowners.net
SUMMARY:Kite Fly on the Dam (10:00 AM weather permitting)
DESCRIPTION:
URL:https://indianlakeowners.net/event/kite-fly-on-the-dam/
END:VEVENT
BEGIN:VEVENT
DTSTART;TZID=America/Chicago:20240302T100000
DTEND;TZID=America/Chicago:20240302T120000
DTSTAMP:20260425T060907
CREATED:20240119T164949Z
LAST-MODIFIED:20240119T164949Z
UID:3988-1709373600-1709380800@indianlakeowners.net
SUMMARY:Bi-Monthly Board Meeting - First National Bank Smithville
DESCRIPTION:
URL:https://indianlakeowners.net/event/bi-monthly-board-meeting-first-national-bank-smithville/
CATEGORIES:Bi-Monthly
END:VEVENT
BEGIN:VEVENT
DTSTART;TZID=America/Chicago:20240210T100000
DTEND;TZID=America/Chicago:20240210T120000
DTSTAMP:20260425T060907
CREATED:20240130T175550Z
LAST-MODIFIED:20240130T180143Z
UID:4005-1707559200-1707566400@indianlakeowners.net
SUMMARY:Plant & Seed Exchange (Pavilion)
DESCRIPTION:Bring plants or cuttings you want to give away or trade\, also\, any seeds you have collected or bought and don’t plan to use.  If you don’t have plant or seed to trade\, but are interested in acquiring new plants\, come anyway
URL:https://indianlakeowners.net/event/plant-seed-exchange/
END:VEVENT
BEGIN:VEVENT
DTSTART;TZID=America/Chicago:20240120T090000
DTEND;TZID=America/Chicago:20240120T120000
DTSTAMP:20260425T060907
CREATED:20240112T141924Z
LAST-MODIFIED:20240112T141924Z
UID:3939-1705741200-1705752000@indianlakeowners.net
SUMMARY:Bastrop Co Household Hazardous Waste Clean Up Day (Tires & Electronics)
DESCRIPTION:
URL:https://indianlakeowners.net/event/bastrop-co-household-hazardous-waste-clean-up-day-tires-electronics/
LOCATION:Bastrop County Household Hazardous Waste & Reuse Facility\, 109 Taylor St\, Smithville\, Texas\, 78597
END:VEVENT
BEGIN:VEVENT
DTSTART;TZID=America/Chicago:20240113T100000
DTEND;TZID=America/Chicago:20240113T120000
DTSTAMP:20260425T060907
CREATED:20230825T010819Z
LAST-MODIFIED:20231118T173013Z
UID:1453-1705140000-1705147200@indianlakeowners.net
SUMMARY:Bi-Monthly Board Meeting - First National Bank Smithville
DESCRIPTION:
URL:https://indianlakeowners.net/event/bi-monthly-board-meeting-first-national-bank-smithville-3/
CATEGORIES:Bi-Monthly
END:VEVENT
END:VCALENDAR