BEGIN:VCALENDAR
VERSION:2.0
PRODID:-//Indian Lake Owners&#039; Association - ECPv6.15.20//NONSGML v1.0//EN
CALSCALE:GREGORIAN
METHOD:PUBLISH
X-WR-CALNAME:Indian Lake Owners&#039; Association
X-ORIGINAL-URL:https://indianlakeowners.net
X-WR-CALDESC:Events for Indian Lake Owners&#039; Association
REFRESH-INTERVAL;VALUE=DURATION:PT1H
X-Robots-Tag:noindex
X-PUBLISHED-TTL:PT1H
BEGIN:VTIMEZONE
TZID:America/Chicago
BEGIN:DAYLIGHT
TZOFFSETFROM:-0600
TZOFFSETTO:-0500
TZNAME:CDT
DTSTART:20230312T080000
END:DAYLIGHT
BEGIN:STANDARD
TZOFFSETFROM:-0500
TZOFFSETTO:-0600
TZNAME:CST
DTSTART:20231105T070000
END:STANDARD
BEGIN:DAYLIGHT
TZOFFSETFROM:-0600
TZOFFSETTO:-0500
TZNAME:CDT
DTSTART:20240310T080000
END:DAYLIGHT
BEGIN:STANDARD
TZOFFSETFROM:-0500
TZOFFSETTO:-0600
TZNAME:CST
DTSTART:20241103T070000
END:STANDARD
BEGIN:DAYLIGHT
TZOFFSETFROM:-0600
TZOFFSETTO:-0500
TZNAME:CDT
DTSTART:20250309T080000
END:DAYLIGHT
BEGIN:STANDARD
TZOFFSETFROM:-0500
TZOFFSETTO:-0600
TZNAME:CST
DTSTART:20251102T070000
END:STANDARD
BEGIN:DAYLIGHT
TZOFFSETFROM:-0600
TZOFFSETTO:-0500
TZNAME:CDT
DTSTART:20260308T080000
END:DAYLIGHT
BEGIN:STANDARD
TZOFFSETFROM:-0500
TZOFFSETTO:-0600
TZNAME:CST
DTSTART:20261101T070000
END:STANDARD
BEGIN:DAYLIGHT
TZOFFSETFROM:-0600
TZOFFSETTO:-0500
TZNAME:CDT
DTSTART:20270314T080000
END:DAYLIGHT
BEGIN:STANDARD
TZOFFSETFROM:-0500
TZOFFSETTO:-0600
TZNAME:CST
DTSTART:20271107T070000
END:STANDARD
END:VTIMEZONE
BEGIN:VEVENT
DTSTART;TZID=America/Chicago:20260516T100000
DTEND;TZID=America/Chicago:20260516T210000
DTSTAMP:20260425T073330
CREATED:20260414T162919Z
LAST-MODIFIED:20260414T163141Z
UID:5864-1778925600-1778965200@indianlakeowners.net
SUMMARY:Reconvening of April 11\, 2026 Special Membership Business Meeting - Indian Lake Pavilion
DESCRIPTION:Due to the lack of quorum being reached on April 11\, 2026\, the meeting will reconvene at 10:00 AM on Saturday\, May 16\, 2026\, at the Indian Lake Pavilion\, 298 Big Bow (by the community swimming pool) and will remain in session throughout the day.  Those owners who have not yet voted may submit their ballots by U.S. Mail to PO Box 808\, Smithville\, Texas 78957; hand-deliver them to 426 Big Bow (or drop them in the mailbox there) or bring them and vote at the meeting.
URL:https://indianlakeowners.net/event/reconvening-of-april-11-2026-special-membership-business-meeting-indian-lake-pavilion/
END:VEVENT
BEGIN:VEVENT
DTSTART;TZID=America/Chicago:20260502T080000
DTEND;TZID=America/Chicago:20260502T120000
DTSTAMP:20260425T073330
CREATED:20251119T193027Z
LAST-MODIFIED:20251119T193027Z
UID:5406-1777708800-1777723200@indianlakeowners.net
SUMMARY:Brush Pile Open (weather dependent)
DESCRIPTION:
URL:https://indianlakeowners.net/event/brush-pile-open-weather-dependent-4/
END:VEVENT
BEGIN:VEVENT
DTSTART;TZID=America/Chicago:20260425T100000
DTEND;TZID=America/Chicago:20260425T120000
DTSTAMP:20260425T073330
CREATED:20251119T190904Z
LAST-MODIFIED:20260415T201924Z
UID:5384-1777111200-1777118400@indianlakeowners.net
SUMMARY:Bi-Monthly Board Meeting – Indian Lake Pavilion
DESCRIPTION:
URL:https://indianlakeowners.net/event/bi-monthly-board-meeting-first-national-bank-smithville-12/
END:VEVENT
BEGIN:VEVENT
DTSTART;TZID=America/Chicago:20260411T100000
DTEND;TZID=America/Chicago:20260411T130000
DTSTAMP:20260425T073330
CREATED:20251119T191354Z
LAST-MODIFIED:20260112T180808Z
UID:5394-1775901600-1775912400@indianlakeowners.net
SUMMARY:SPECIAL ILOA Membership Business Meeting - Ownership Wide Vote Count - First National Bank Smithville
DESCRIPTION:
URL:https://indianlakeowners.net/event/special-meeting-ownership-wide-vote-count/
END:VEVENT
BEGIN:VEVENT
DTSTART;TZID=America/Chicago:20260404T080000
DTEND;TZID=America/Chicago:20260404T120000
DTSTAMP:20260425T073330
CREATED:20251119T192533Z
LAST-MODIFIED:20251119T192533Z
UID:5404-1775289600-1775304000@indianlakeowners.net
SUMMARY:Brush Pile Open (weather dependent)
DESCRIPTION:
URL:https://indianlakeowners.net/event/brush-pile-open-weather-dependent-3/
END:VEVENT
BEGIN:VEVENT
DTSTART;TZID=America/Chicago:20260321T100000
DTEND;TZID=America/Chicago:20260321T130000
DTSTAMP:20260425T073330
CREATED:20260309T202549Z
LAST-MODIFIED:20260309T202549Z
UID:5780-1774087200-1774098000@indianlakeowners.net
SUMMARY:Freedom on the Fly Potluck BBQ - Pavillion
DESCRIPTION:
URL:https://indianlakeowners.net/event/freedom-on-the-fly-potluck-bbq-pavillion/
END:VEVENT
BEGIN:VEVENT
DTSTART;TZID=America/Chicago:20260307T080000
DTEND;TZID=America/Chicago:20260307T120000
DTSTAMP:20260425T073330
CREATED:20251119T192450Z
LAST-MODIFIED:20251119T192708Z
UID:5402-1772870400-1772884800@indianlakeowners.net
SUMMARY:Brush Pile Open (weather dependent)
DESCRIPTION:
URL:https://indianlakeowners.net/event/brush-pile-open-weather-dependent-2/
END:VEVENT
BEGIN:VEVENT
DTSTART;TZID=America/Chicago:20260228T100000
DTEND;TZID=America/Chicago:20260228T120000
DTSTAMP:20260425T073330
CREATED:20251024T130423Z
LAST-MODIFIED:20251119T221750Z
UID:5368-1772272800-1772280000@indianlakeowners.net
SUMMARY:Bi-Monthly Board Meeting – First National Bank Smithville
DESCRIPTION:
URL:https://indianlakeowners.net/event/bi-monthly-board-of-directors-meeting-2/
END:VEVENT
BEGIN:VEVENT
DTSTART;VALUE=DATE:20260210
DTEND;VALUE=DATE:20260213
DTSTAMP:20260425T073330
CREATED:20260112T180432Z
LAST-MODIFIED:20260112T180432Z
UID:5569-1770681600-1770940799@indianlakeowners.net
SUMMARY:Ownership Wide Vote Packets to be mailed
DESCRIPTION:
URL:https://indianlakeowners.net/event/ownership-wide-vote-packets-to-be-mailed/
END:VEVENT
BEGIN:VEVENT
DTSTART;TZID=America/Chicago:20260207T100000
DTEND;TZID=America/Chicago:20260207T120000
DTSTAMP:20260425T073330
CREATED:20260112T180004Z
LAST-MODIFIED:20260112T180036Z
UID:5566-1770458400-1770465600@indianlakeowners.net
SUMMARY:Town Hall Meeting - Ownership Wide Vote - 1st National Bank Smithville
DESCRIPTION:
URL:https://indianlakeowners.net/event/town-hall-meeting-ownership-wide-vote-1st-national-bank-smithville/
END:VEVENT
BEGIN:VEVENT
DTSTART;TZID=America/Chicago:20260207T080000
DTEND;TZID=America/Chicago:20260207T120000
DTSTAMP:20260425T073330
CREATED:20251119T192431Z
LAST-MODIFIED:20251119T192634Z
UID:5400-1770451200-1770465600@indianlakeowners.net
SUMMARY:Brush Pile Open (weather dependent)
DESCRIPTION:
URL:https://indianlakeowners.net/event/brush-pile-open-weather-dependent/
END:VEVENT
BEGIN:VEVENT
DTSTART;TZID=America/Chicago:20260110T100000
DTEND;TZID=America/Chicago:20260110T120000
DTSTAMP:20260425T073330
CREATED:20251119T191936Z
LAST-MODIFIED:20251119T191936Z
UID:5396-1768039200-1768046400@indianlakeowners.net
SUMMARY:Rescheduled (from Dec 2025) Bi-Monthly Board Meeting – First National Bank Smithville
DESCRIPTION:
URL:https://indianlakeowners.net/event/rescheduled-from-dec-2025-bi-monthly-board-meeting-first-national-bank-smithville/
END:VEVENT
BEGIN:VEVENT
DTSTART;TZID=America/Chicago:20260103T080000
DTEND;TZID=America/Chicago:20260103T120000
DTSTAMP:20260425T073330
CREATED:20231130T190245Z
LAST-MODIFIED:20251119T192407Z
UID:3428-1767427200-1767441600@indianlakeowners.net
SUMMARY:Brush Pile Open (weather dependent)
DESCRIPTION:
URL:https://indianlakeowners.net/event/brush-pile-open-5/
END:VEVENT
BEGIN:VEVENT
DTSTART;TZID=America/Chicago:20251025T100000
DTEND;TZID=America/Chicago:20251025T120000
DTSTAMP:20260425T073330
CREATED:20241130T195321Z
LAST-MODIFIED:20241130T195321Z
UID:4682-1761386400-1761393600@indianlakeowners.net
SUMMARY:Bi-Monthly Board Meeting – First National Bank Smithville
DESCRIPTION:
URL:https://indianlakeowners.net/event/bi-monthly-board-meeting-first-national-bank-smithville-10/
END:VEVENT
BEGIN:VEVENT
DTSTART;TZID=America/Chicago:20251011T080000
DTEND;TZID=America/Chicago:20251011T120000
DTSTAMP:20260425T073330
CREATED:20250924T114127Z
LAST-MODIFIED:20250924T114324Z
UID:5333-1760169600-1760184000@indianlakeowners.net
SUMMARY:Fall Neighborhood Cleanup - Pavilion - 8 am to Noon
DESCRIPTION:
URL:https://indianlakeowners.net/event/fall-neighborhood-cleanup-8-am-to-noon/
END:VEVENT
BEGIN:VEVENT
DTSTART;TZID=America/Chicago:20250830T100000
DTEND;TZID=America/Chicago:20250830T120000
DTSTAMP:20260425T073330
CREATED:20241130T195230Z
LAST-MODIFIED:20241130T195230Z
UID:4680-1756548000-1756555200@indianlakeowners.net
SUMMARY:Bi-Monthly Board Meeting – First National Bank Smithville
DESCRIPTION:
URL:https://indianlakeowners.net/event/bi-monthly-board-meeting-first-national-bank-smithville-9/
END:VEVENT
BEGIN:VEVENT
DTSTART;TZID=America/Chicago:20250726T100000
DTEND;TZID=America/Chicago:20250726T120000
DTSTAMP:20260425T073330
CREATED:20241130T195512Z
LAST-MODIFIED:20250613T114334Z
UID:4686-1753524000-1753531200@indianlakeowners.net
SUMMARY:Annual Membership Business Meeting - First National Bank Smithville
DESCRIPTION:
URL:https://indianlakeowners.net/event/annual-membership-business-meeting/
END:VEVENT
BEGIN:VEVENT
DTSTART;VALUE=DATE:20250711
DTEND;VALUE=DATE:20250712
DTSTAMP:20260425T073330
CREATED:20250612T120050Z
LAST-MODIFIED:20250612T120050Z
UID:5132-1752192000-1752278399@indianlakeowners.net
SUMMARY:2025 Annual Meeting Notices to be Mailed
DESCRIPTION:
URL:https://indianlakeowners.net/event/2025-annual-meeting-notices-to-be-mailed/
END:VEVENT
BEGIN:VEVENT
DTSTART;TZID=America/Chicago:20250628T100000
DTEND;TZID=America/Chicago:20250628T120000
DTSTAMP:20260425T073330
CREATED:20241130T195126Z
LAST-MODIFIED:20241130T195126Z
UID:4678-1751104800-1751112000@indianlakeowners.net
SUMMARY:Bi-Monthly Board Meeting – First National Bank Smithville
DESCRIPTION:
URL:https://indianlakeowners.net/event/bi-monthly-board-meeting-first-national-bank-smithville-8/
END:VEVENT
BEGIN:VEVENT
DTSTART;TZID=America/Chicago:20250524T100000
DTEND;TZID=America/Chicago:20250524T200000
DTSTAMP:20260425T073330
CREATED:20250518T170219Z
LAST-MODIFIED:20250518T185206Z
UID:5095-1748080800-1748116800@indianlakeowners.net
SUMMARY:Swimming Pool Grand Opening
DESCRIPTION:
URL:https://indianlakeowners.net/event/swimming-pool-grand-opening/
END:VEVENT
BEGIN:VEVENT
DTSTART;TZID=America/Chicago:20250524T100000
DTEND;TZID=America/Chicago:20250524T140000
DTSTAMP:20260425T073330
CREATED:20250518T170258Z
LAST-MODIFIED:20250518T170258Z
UID:5097-1748080800-1748095200@indianlakeowners.net
SUMMARY:Electrofishing Survey - Pristine Pond Solutions
DESCRIPTION:
URL:https://indianlakeowners.net/event/electrofishing-survey-pristine-pond-solutions/
END:VEVENT
BEGIN:VEVENT
DTSTART;TZID=America/Chicago:20250503T100000
DTEND;TZID=America/Chicago:20250503T120000
DTSTAMP:20260425T073330
CREATED:20241130T194916Z
LAST-MODIFIED:20250330T153816Z
UID:4676-1746266400-1746273600@indianlakeowners.net
SUMMARY:Bi-Monthly Board Meeting – First National Bank Smithville
DESCRIPTION:
URL:https://indianlakeowners.net/event/bi-monthly-board-meeting-first-national-bank-smithville-7/
END:VEVENT
BEGIN:VEVENT
DTSTART;VALUE=DATE:20250412
DTEND;VALUE=DATE:20250413
DTSTAMP:20260425T073330
CREATED:20250406T182802Z
LAST-MODIFIED:20250406T182802Z
UID:5053-1744416000-1744502399@indianlakeowners.net
SUMMARY:Community Wide Garage Sale
DESCRIPTION:
URL:https://indianlakeowners.net/event/community-wide-garage-sale/
END:VEVENT
BEGIN:VEVENT
DTSTART;VALUE=DATE:20250412
DTEND;VALUE=DATE:20250413
DTSTAMP:20260425T073330
CREATED:20250307T175012Z
LAST-MODIFIED:20250307T175518Z
UID:5013-1744416000-1744502399@indianlakeowners.net
SUMMARY:Pavilion Reserved (Virginia Hirsch/Teresa Diefenbach)
DESCRIPTION:
URL:https://indianlakeowners.net/event/pavilion-reserved-virginia-hirsch-teresa-diefenbach/
END:VEVENT
BEGIN:VEVENT
DTSTART;TZID=America/Chicago:20250308T080000
DTEND;TZID=America/Chicago:20250308T130000
DTSTAMP:20260425T073330
CREATED:20241230T182044Z
LAST-MODIFIED:20250307T174609Z
UID:4911-1741420800-1741438800@indianlakeowners.net
SUMMARY:Spring Cleanup
DESCRIPTION:
URL:https://indianlakeowners.net/event/spring-cleanup/
END:VEVENT
BEGIN:VEVENT
DTSTART;TZID=America/Chicago:20250222T100000
DTEND;TZID=America/Chicago:20250222T120000
DTSTAMP:20260425T073330
CREATED:20241105T175834Z
LAST-MODIFIED:20241105T175922Z
UID:4630-1740218400-1740225600@indianlakeowners.net
SUMMARY:Bi-Monthly Board Meeting – First National Bank Smithville
DESCRIPTION:
URL:https://indianlakeowners.net/event/bi-monthly-board-meeting-2/
END:VEVENT
BEGIN:VEVENT
DTSTART;TZID=America/Chicago:20241214T100000
DTEND;TZID=America/Chicago:20241214T120000
DTSTAMP:20260425T073330
CREATED:20240717T004422Z
LAST-MODIFIED:20241011T134434Z
UID:4412-1734170400-1734177600@indianlakeowners.net
SUMMARY:Bi-Monthly Board Meeting - First National Bank Smithville
DESCRIPTION:
URL:https://indianlakeowners.net/event/bi-monthly-board-meeting-first-national-bank-smithville-6/
END:VEVENT
BEGIN:VEVENT
DTSTART;TZID=America/Chicago:20241026T100000
DTEND;TZID=America/Chicago:20241026T120000
DTSTAMP:20260425T073330
CREATED:20240717T004335Z
LAST-MODIFIED:20240717T004335Z
UID:4410-1729936800-1729944000@indianlakeowners.net
SUMMARY:Bi-Monthly Board Meeting - First National Bank Smithville
DESCRIPTION:
URL:https://indianlakeowners.net/event/bi-monthly-board-meeting-first-national-bank-smithville-5/
END:VEVENT
BEGIN:VEVENT
DTSTART;TZID=America/Chicago:20240831T100000
DTEND;TZID=America/Chicago:20240831T120000
DTSTAMP:20260425T073330
CREATED:20240717T004118Z
LAST-MODIFIED:20240717T004249Z
UID:4407-1725098400-1725105600@indianlakeowners.net
SUMMARY:Bi-Monthly Board Meeting - First National Bank Smithville
DESCRIPTION:
URL:https://indianlakeowners.net/event/bi-monthly-board-meeting/
END:VEVENT
BEGIN:VEVENT
DTSTART;TZID=America/Chicago:20240727T100000
DTEND;TZID=America/Chicago:20240727T130000
DTSTAMP:20260425T073330
CREATED:20240526T015129Z
LAST-MODIFIED:20240624T163708Z
UID:4180-1722074400-1722085200@indianlakeowners.net
SUMMARY:Annual Business Meeting - First National Bank Smithville
DESCRIPTION:
URL:https://indianlakeowners.net/event/annual-business-meeting-location-tbd/
END:VEVENT
END:VCALENDAR