BEGIN:VCALENDAR
VERSION:2.0
PRODID:-//Indian Lake Owners&#039; Association - ECPv6.15.20//NONSGML v1.0//EN
CALSCALE:GREGORIAN
METHOD:PUBLISH
X-WR-CALNAME:Indian Lake Owners&#039; Association
X-ORIGINAL-URL:https://indianlakeowners.net
X-WR-CALDESC:Events for Indian Lake Owners&#039; Association
REFRESH-INTERVAL;VALUE=DURATION:PT1H
X-Robots-Tag:noindex
X-PUBLISHED-TTL:PT1H
BEGIN:VTIMEZONE
TZID:America/Chicago
BEGIN:DAYLIGHT
TZOFFSETFROM:-0600
TZOFFSETTO:-0500
TZNAME:CDT
DTSTART:20250309T080000
END:DAYLIGHT
BEGIN:STANDARD
TZOFFSETFROM:-0500
TZOFFSETTO:-0600
TZNAME:CST
DTSTART:20251102T070000
END:STANDARD
BEGIN:DAYLIGHT
TZOFFSETFROM:-0600
TZOFFSETTO:-0500
TZNAME:CDT
DTSTART:20260308T080000
END:DAYLIGHT
BEGIN:STANDARD
TZOFFSETFROM:-0500
TZOFFSETTO:-0600
TZNAME:CST
DTSTART:20261101T070000
END:STANDARD
BEGIN:DAYLIGHT
TZOFFSETFROM:-0600
TZOFFSETTO:-0500
TZNAME:CDT
DTSTART:20270314T080000
END:DAYLIGHT
BEGIN:STANDARD
TZOFFSETFROM:-0500
TZOFFSETTO:-0600
TZNAME:CST
DTSTART:20271107T070000
END:STANDARD
END:VTIMEZONE
BEGIN:VEVENT
DTSTART;TZID=America/Chicago:20260606T080000
DTEND;TZID=America/Chicago:20260606T120000
DTSTAMP:20260424T180425
CREATED:20251119T193124Z
LAST-MODIFIED:20251119T193124Z
UID:5408-1780732800-1780747200@indianlakeowners.net
SUMMARY:Brush Pile Open (weather dependent)
DESCRIPTION:
URL:https://indianlakeowners.net/event/brush-pile-open-weather-dependent-5/
END:VEVENT
BEGIN:VEVENT
DTSTART;TZID=America/Chicago:20260627T100000
DTEND;TZID=America/Chicago:20260627T120000
DTSTAMP:20260424T180425
CREATED:20251119T191021Z
LAST-MODIFIED:20251119T191021Z
UID:5386-1782554400-1782561600@indianlakeowners.net
SUMMARY:Bi-Monthly Board Meeting – First National Bank Smithville
DESCRIPTION:
URL:https://indianlakeowners.net/event/bi-monthly-board-meeting-first-national-bank-smithville-13/
END:VEVENT
BEGIN:VEVENT
DTSTART;TZID=America/Chicago:20260704T080000
DTEND;TZID=America/Chicago:20260704T120000
DTSTAMP:20260424T180425
CREATED:20251119T193148Z
LAST-MODIFIED:20251119T193148Z
UID:5410-1783152000-1783166400@indianlakeowners.net
SUMMARY:Brush Pile Open (weather dependent)
DESCRIPTION:
URL:https://indianlakeowners.net/event/brush-pile-open-weather-dependent-6/
END:VEVENT
BEGIN:VEVENT
DTSTART;TZID=America/Chicago:20260725T100000
DTEND;TZID=America/Chicago:20260725T120000
DTSTAMP:20260424T180425
CREATED:20251119T191252Z
LAST-MODIFIED:20251119T191252Z
UID:5392-1784973600-1784980800@indianlakeowners.net
SUMMARY:Annual Membership Business Meeting - First National Bank Smithville
DESCRIPTION:
URL:https://indianlakeowners.net/event/annual-membership-business-meeting-first-national-bank-smithville/
END:VEVENT
BEGIN:VEVENT
DTSTART;TZID=America/Chicago:20260801T080000
DTEND;TZID=America/Chicago:20260801T120000
DTSTAMP:20260424T180425
CREATED:20251119T193214Z
LAST-MODIFIED:20251119T193214Z
UID:5412-1785571200-1785585600@indianlakeowners.net
SUMMARY:Brush Pile Open (weather dependent)
DESCRIPTION:
URL:https://indianlakeowners.net/event/brush-pile-open-weather-dependent-7/
END:VEVENT
BEGIN:VEVENT
DTSTART;TZID=America/Chicago:20260822T100000
DTEND;TZID=America/Chicago:20260822T120000
DTSTAMP:20260424T180425
CREATED:20251119T191108Z
LAST-MODIFIED:20251119T191108Z
UID:5388-1787392800-1787400000@indianlakeowners.net
SUMMARY:Bi-Monthly Board Meeting – First National Bank Smithville
DESCRIPTION:
URL:https://indianlakeowners.net/event/bi-monthly-board-meeting-first-national-bank-smithville-14/
END:VEVENT
BEGIN:VEVENT
DTSTART;TZID=America/Chicago:20260905T080000
DTEND;TZID=America/Chicago:20260905T120000
DTSTAMP:20260424T180425
CREATED:20251119T193259Z
LAST-MODIFIED:20251119T193259Z
UID:5414-1788595200-1788609600@indianlakeowners.net
SUMMARY:Brush Pile Open (weather dependent)
DESCRIPTION:
URL:https://indianlakeowners.net/event/brush-pile-open-weather-dependent-8/
END:VEVENT
BEGIN:VEVENT
DTSTART;TZID=America/Chicago:20261003T080000
DTEND;TZID=America/Chicago:20261003T120000
DTSTAMP:20260424T180425
CREATED:20251119T193328Z
LAST-MODIFIED:20251119T193328Z
UID:5416-1791014400-1791028800@indianlakeowners.net
SUMMARY:Brush Pile Open (weather dependent)
DESCRIPTION:
URL:https://indianlakeowners.net/event/brush-pile-open-weather-dependent-9/
END:VEVENT
BEGIN:VEVENT
DTSTART;TZID=America/Chicago:20261024T100000
DTEND;TZID=America/Chicago:20261024T120000
DTSTAMP:20260424T180425
CREATED:20251119T191155Z
LAST-MODIFIED:20251119T191155Z
UID:5390-1792836000-1792843200@indianlakeowners.net
SUMMARY:Bi-Monthly Board Meeting – First National Bank Smithville
DESCRIPTION:
URL:https://indianlakeowners.net/event/bi-monthly-board-meeting-first-national-bank-smithville-15/
END:VEVENT
BEGIN:VEVENT
DTSTART;TZID=America/Chicago:20261107T080000
DTEND;TZID=America/Chicago:20261107T120000
DTSTAMP:20260424T180425
CREATED:20251119T193408Z
LAST-MODIFIED:20251119T193408Z
UID:5418-1794038400-1794052800@indianlakeowners.net
SUMMARY:Brush Pile Open (weather dependent)
DESCRIPTION:
URL:https://indianlakeowners.net/event/brush-pile-open-weather-dependent-10/
END:VEVENT
BEGIN:VEVENT
DTSTART;TZID=America/Chicago:20261205T080000
DTEND;TZID=America/Chicago:20261205T120000
DTSTAMP:20260424T180425
CREATED:20251119T193435Z
LAST-MODIFIED:20251119T193435Z
UID:5420-1796457600-1796472000@indianlakeowners.net
SUMMARY:Brush Pile Open (weather dependent)
DESCRIPTION:
URL:https://indianlakeowners.net/event/brush-pile-open-weather-dependent-11/
END:VEVENT
END:VCALENDAR